Package: OSCA.workflows Version: 1.19.0 Command: /home/biocbuild/bbs-3.23-bioc/R/bin/R CMD build --keep-empty-dirs --no-resave-data OSCA.workflows StartedAt: 2025-11-12 10:17:37 -0500 (Wed, 12 Nov 2025) EndedAt: 2025-11-12 11:26:28 -0500 (Wed, 12 Nov 2025) EllapsedTime: 4131.1 seconds RetCode: 0 Status: OK PackageFile: OSCA.workflows_1.19.0.tar.gz PackageFileSize: 16.93 MiB