Package: OSCA.multisample Version: 1.17.0 Command: /home/biocbuild/bbs-3.22-books/R/bin/R CMD INSTALL OSCA.multisample StartedAt: 2025-10-15 06:15:53 -0400 (Wed, 15 Oct 2025) EndedAt: 2025-10-15 06:16:20 -0400 (Wed, 15 Oct 2025) EllapsedTime: 26.9 seconds RetCode: 0 Status: OK