Package: OSCA.multisample Version: 1.17.0 Command: /home/biocbuild/bbs-3.22-books/R/bin/R CMD build --keep-empty-dirs --no-resave-data OSCA.multisample StartedAt: 2025-10-15 06:17:19 -0400 (Wed, 15 Oct 2025) EndedAt: 2025-10-15 07:54:13 -0400 (Wed, 15 Oct 2025) EllapsedTime: 5814.3 seconds RetCode: 0 Status: OK PackageFile: OSCA.multisample_1.17.0.tar.gz PackageFileSize: 11.34 MiB