Package: OSCA.multisample Version: 1.15.4 Command: /home/biocbuild/bbs-3.21-bioc/R/bin/R CMD INSTALL OSCA.multisample StartedAt: 2025-02-05 10:15:45 -0500 (Wed, 05 Feb 2025) EndedAt: 2025-02-05 10:16:12 -0500 (Wed, 05 Feb 2025) EllapsedTime: 27.2 seconds RetCode: 0 Status: OK