Package: OSCA.multisample Version: 1.15.4 Command: rm -rf OSCA.multisample.book && mkdir OSCA.multisample.book && /home/biocbuild/BBS/utils/deploy_book.py OSCA.multisample_1.15.4.tar.gz OSCA.multisample.book StartedAt: 2025-02-05 11:53:04 -0500 (Wed, 05 Feb 2025) EndedAt: 2025-02-05 11:53:06 -0500 (Wed, 05 Feb 2025) EllapsedTime: 2.5 seconds RetCode: 0 Status: OK DeployDestDir: OSCA.multisample.book Warnings: 0