Package: OSCA.multisample Version: 1.19.0 Command: /Library/Frameworks/R.framework/Resources/bin/R CMD INSTALL OSCA.multisample StartedAt: 2025-11-19 06:45:27 -0500 (Wed, 19 Nov 2025) EndedAt: 2025-11-19 06:45:37 -0500 (Wed, 19 Nov 2025) EllapsedTime: 9.8 seconds RetCode: 0 Status: OK