Package: OSCA.multisample Version: 1.19.0 Command: /Library/Frameworks/R.framework/Resources/bin/R CMD build --keep-empty-dirs --no-resave-data OSCA.multisample StartedAt: 2025-11-19 06:46:31 -0500 (Wed, 19 Nov 2025) EndedAt: 2025-11-19 07:27:18 -0500 (Wed, 19 Nov 2025) EllapsedTime: 2446.7 seconds RetCode: 0 Status: OK PackageFile: OSCA.multisample_1.19.0.tar.gz PackageFileSize: 14.74 MiB