Package: OSCA.multisample Version: 1.15.4 Maintainer: Alan O'Callaghan MaintainerEmail: alan.ocallaghan at outlook.com git_url: https://git.bioconductor.org/packages/OSCA.multisample git_branch: devel git_last_commit: 9d51594 git_last_commit_date: 2025-01-20 09:39:40 -0500 (Mon, 20 Jan 2025)