Package: OSCA.intro Version: 1.17.1 Command: /home/biocbuild/bbs-3.22-books/R/bin/R CMD INSTALL OSCA.intro StartedAt: 2025-10-08 06:15:13 -0400 (Wed, 08 Oct 2025) EndedAt: 2025-10-08 06:15:46 -0400 (Wed, 08 Oct 2025) EllapsedTime: 33.5 seconds RetCode: 0 Status: OK