Package: OSCA.intro Version: 1.17.1 Command: /home/biocbuild/bbs-3.22-books/R/bin/R CMD build --keep-empty-dirs --no-resave-data OSCA.intro StartedAt: 2025-10-08 06:17:18 -0400 (Wed, 08 Oct 2025) EndedAt: 2025-10-08 06:25:44 -0400 (Wed, 08 Oct 2025) EllapsedTime: 506.1 seconds RetCode: 0 Status: OK PackageFile: OSCA.intro_1.17.1.tar.gz PackageFileSize: 1.328 MiB