Package: OSCA.intro Version: 1.19.0 Command: /Library/Frameworks/R.framework/Resources/bin/R CMD INSTALL OSCA.intro StartedAt: 2025-11-28 06:45:12 -0500 (Fri, 28 Nov 2025) EndedAt: 2025-11-28 06:45:25 -0500 (Fri, 28 Nov 2025) EllapsedTime: 13.6 seconds RetCode: 0 Status: OK