Package: OSCA.intro Version: 1.19.0 Command: /Library/Frameworks/R.framework/Resources/bin/R CMD build --keep-empty-dirs --no-resave-data OSCA.intro StartedAt: 2025-11-28 06:46:11 -0500 (Fri, 28 Nov 2025) EndedAt: 2025-11-28 06:47:56 -0500 (Fri, 28 Nov 2025) EllapsedTime: 104.9 seconds RetCode: 1 Status: ERROR PackageFile: None PackageFileSize: NA