| Back to Books build report for BioC 3.23 |
This page was generated on 2025-11-10 14:30 -0500 (Mon, 10 Nov 2025).
| Hostname | OS | Arch (*) | R version | Installed pkgs |
|---|---|---|---|---|
| nebbiolo1 | Linux (Ubuntu 24.04.3 LTS) | x86_64 | R Under development (unstable) (2025-10-20 r88955) -- "Unsuffered Consequences" | 4821 |
| Click on any hostname to see more info about the system (e.g. compilers) (*) as reported by 'uname -p', except on Windows and Mac OS X | ||||
| Package 7/11 | Hostname | OS / Arch | INSTALL | BUILD | CHECK | ||||||||
| OSCA.intro 1.19.0 (landing page) Ludwig Geistlinger
| nebbiolo1 | Linux (Ubuntu 24.04.3 LTS) / x86_64 | OK | OK | OK | ||||||||
|
To the developers/maintainers of the OSCA.intro package: - Use the following Renviron settings to reproduce errors and warnings. - If 'R CMD check' started to fail recently on the Linux builder(s) over a missing dependency, add the missing dependency to 'Suggests:' in your DESCRIPTION file. See Renviron.bioc for more information. |
| Package: OSCA.intro |
| Version: 1.19.0 |
| Command: rm -rf OSCA.intro.book && mkdir OSCA.intro.book && /home/biocbuild/BBS/utils/deploy_book.py OSCA.intro_1.19.0.tar.gz OSCA.intro.book |
| StartedAt: 2025-11-10 12:24:41 -0500 (Mon, 10 Nov 2025) |
| EndedAt: 2025-11-10 12:24:42 -0500 (Mon, 10 Nov 2025) |
| EllapsedTime: 1.1 seconds |
| RetCode: 0 |
| Status: OK |
| DeployDestDir: OSCA.intro.book |
| Warnings: 0 |
############################################################################## ############################################################################## ### ### Running command: ### ### rm -rf OSCA.intro.book && mkdir OSCA.intro.book && /home/biocbuild/BBS/utils/deploy_book.py OSCA.intro_1.19.0.tar.gz OSCA.intro.book ### ############################################################################## ############################################################################## Deploying content from book tarball 'OSCA.intro_1.19.0.tar.gz' to 'OSCA.intro.book/OSCA.intro/' ... OK