Package: OSCA.basic Version: 1.17.1 Command: rm -rf OSCA.basic.book && mkdir OSCA.basic.book && /home/biocbuild/BBS/utils/deploy_book.py OSCA.basic_1.17.1.tar.gz OSCA.basic.book StartedAt: 2025-10-15 07:54:17 -0400 (Wed, 15 Oct 2025) EndedAt: 2025-10-15 07:54:18 -0400 (Wed, 15 Oct 2025) EllapsedTime: 1.1 seconds RetCode: 0 Status: OK DeployDestDir: OSCA.basic.book Warnings: 0