Package: OSCA.basic Version: 1.19.0 Command: /home/biocbuild/bbs-3.23-bioc/R/bin/R CMD INSTALL OSCA.basic StartedAt: 2025-11-21 10:15:55 -0500 (Fri, 21 Nov 2025) EndedAt: 2025-11-21 10:16:31 -0500 (Fri, 21 Nov 2025) EllapsedTime: 36.2 seconds RetCode: 0 Status: OK