Package: OSCA.basic Version: 1.19.0 Command: rm -rf OSCA.basic.book && mkdir OSCA.basic.book && /home/biocbuild/BBS/utils/deploy_book.py OSCA.basic_1.19.0.tar.gz OSCA.basic.book StartedAt: 2025-11-21 11:51:17 -0500 (Fri, 21 Nov 2025) EndedAt: 2025-11-21 11:51:18 -0500 (Fri, 21 Nov 2025) EllapsedTime: 1.1 seconds RetCode: 0 Status: OK DeployDestDir: OSCA.basic.book Warnings: 0