Package: OSCA.basic Version: 1.19.0 Command: /home/biocbuild/bbs-3.23-bioc/R/bin/R CMD build --keep-empty-dirs --no-resave-data OSCA.basic StartedAt: 2025-11-21 10:17:23 -0500 (Fri, 21 Nov 2025) EndedAt: 2025-11-21 11:39:07 -0500 (Fri, 21 Nov 2025) EllapsedTime: 4904.0 seconds RetCode: 0 Status: OK PackageFile: OSCA.basic_1.19.0.tar.gz PackageFileSize: 11.51 MiB