Package: OSCA.basic Version: 1.19.0 Command: rm -rf OSCA.basic.book && mkdir OSCA.basic.book && /Users/biocbuild/BBS/utils/deploy_book.py OSCA.basic_1.19.0.tar.gz OSCA.basic.book StartedAt: 2025-11-21 07:25:52 -0500 (Fri, 21 Nov 2025) EndedAt: 2025-11-21 07:25:53 -0500 (Fri, 21 Nov 2025) EllapsedTime: 1.1 seconds RetCode: 0 Status: OK DeployDestDir: OSCA.basic.book Warnings: 0