Package: OSCA.advanced Version: 1.19.0 Command: /home/biocbuild/bbs-3.23-bioc/R/bin/R CMD INSTALL OSCA.advanced StartedAt: 2025-11-12 10:16:34 -0500 (Wed, 12 Nov 2025) EndedAt: 2025-11-12 10:17:14 -0500 (Wed, 12 Nov 2025) EllapsedTime: 40.6 seconds RetCode: 0 Status: OK