Package: OSCA.advanced Version: 1.19.0 Command: /home/biocbuild/bbs-3.23-bioc/R/bin/R CMD build --keep-empty-dirs --no-resave-data OSCA.advanced StartedAt: 2025-11-10 10:17:24 -0500 (Mon, 10 Nov 2025) EndedAt: 2025-11-10 12:24:37 -0500 (Mon, 10 Nov 2025) EllapsedTime: 7632.9 seconds RetCode: 0 Status: OK PackageFile: OSCA.advanced_1.19.0.tar.gz PackageFileSize: 21.49 MiB