Package: OSCA.advanced Version: 1.17.3 Command: /Library/Frameworks/R.framework/Resources/bin/R CMD INSTALL OSCA.advanced StartedAt: 2025-10-29 06:46:22 -0400 (Wed, 29 Oct 2025) EndedAt: 2025-10-29 06:46:54 -0400 (Wed, 29 Oct 2025) EllapsedTime: 32.1 seconds RetCode: 0 Status: OK