Package: OSCA.advanced Version: 1.17.2 Command: /Library/Frameworks/R.framework/Resources/bin/R CMD INSTALL OSCA.advanced StartedAt: 2025-10-15 06:15:38 -0400 (Wed, 15 Oct 2025) EndedAt: 2025-10-15 06:15:53 -0400 (Wed, 15 Oct 2025) EllapsedTime: 15.0 seconds RetCode: 0 Status: OK