Package: OSCA.advanced Version: 1.17.2 Command: /Library/Frameworks/R.framework/Resources/bin/R CMD build --keep-empty-dirs --no-resave-data OSCA.advanced StartedAt: 2025-10-15 06:16:02 -0400 (Wed, 15 Oct 2025) EndedAt: 2025-10-15 06:24:50 -0400 (Wed, 15 Oct 2025) EllapsedTime: 528.1 seconds RetCode: 1 Status: ERROR PackageFile: None PackageFileSize: NA