Package: OSCA.advanced Version: 1.19.1 Maintainer: Ludwig Geistlinger MaintainerEmail: ludwig_geistlinger at hms.harvard.edu git_url: https://git.bioconductor.org/packages/OSCA.advanced git_branch: devel git_last_commit: 55de68d git_last_commit_date: 2025-11-18 20:18:19 -0500 (Tue, 18 Nov 2025)