Package: OHCA Version: 1.7.0 Command: /home/biocbuild/bbs-3.23-bioc/R/bin/R CMD INSTALL OHCA StartedAt: 2025-11-12 10:15:19 -0500 (Wed, 12 Nov 2025) EndedAt: 2025-11-12 10:15:20 -0500 (Wed, 12 Nov 2025) EllapsedTime: 0.9 seconds RetCode: 0 Status: OK