Package: OHCA
Version: 1.3.0
Command: rm -rf OHCA.book && mkdir OHCA.book && /home/biocbuild/BBS/utils/deploy_book.py OHCA_1.3.0.tar.gz OHCA.book
StartedAt: 2025-02-21 11:44:04 -0500 (Fri, 21 Feb 2025)
EndedAt: 2025-02-21 11:44:06 -0500 (Fri, 21 Feb 2025)
EllapsedTime: 1.6 seconds
RetCode: 0
Status: OK
DeployDestDir: OHCA.book
Warnings: 0