Package: BiocBookDemo Version: 1.7.0 Command: /home/biocbuild/bbs-3.22-books/R/bin/R CMD build --keep-empty-dirs --no-resave-data BiocBookDemo StartedAt: 2025-10-08 06:17:18 -0400 (Wed, 08 Oct 2025) EndedAt: 2025-10-08 06:18:14 -0400 (Wed, 08 Oct 2025) EllapsedTime: 56.0 seconds RetCode: 0 Status: OK PackageFile: BiocBookDemo_1.7.0.tar.gz PackageFileSize: 3.257 MiB