Package: BiocBookDemo Version: 1.5.0 Command: /home/biocbuild/bbs-3.21-bioc/R/bin/R CMD build --keep-empty-dirs --no-resave-data BiocBookDemo StartedAt: 2025-02-10 10:17:08 -0500 (Mon, 10 Feb 2025) EndedAt: 2025-02-10 10:18:33 -0500 (Mon, 10 Feb 2025) EllapsedTime: 85.3 seconds RetCode: 1 Status: ERROR PackageFile: None PackageFileSize: NA