Package: BiocBookDemo Version: 1.9.0 Command: /Library/Frameworks/R.framework/Resources/bin/R CMD build --keep-empty-dirs --no-resave-data BiocBookDemo StartedAt: 2025-11-21 06:46:02 -0500 (Fri, 21 Nov 2025) EndedAt: 2025-11-21 06:46:30 -0500 (Fri, 21 Nov 2025) EllapsedTime: 27.3 seconds RetCode: 0 Status: OK PackageFile: BiocBookDemo_1.9.0.tar.gz PackageFileSize: 3.304 MiB