Package: zlibbioc Version: 1.53.0 Command: /home/rapidbuild/bbs-3.21-bioc-rapid/R/bin/R CMD check --install=check:zlibbioc.install-out.txt --library=/home/rapidbuild/bbs-3.21-bioc-rapid/R/site-library --timings zlibbioc_1.53.0.tar.gz StartedAt: 2025-02-21 15:21:09 -0500 (Fri, 21 Feb 2025) EndedAt: 2025-02-21 15:21:21 -0500 (Fri, 21 Feb 2025) EllapsedTime: 12.0 seconds RetCode: 0 Status: OK CheckDir: zlibbioc.Rcheck Warnings: 0