Package: xcms Version: 4.5.3 Maintainer: Steffen Neumann MaintainerEmail: sneumann at ipb-halle.de git_url: https://git.bioconductor.org/packages/xcms git_branch: devel git_last_commit: 55d39de5 git_last_commit_date: 2025-02-06 03:46:58 -0500 (Thu, 06 Feb 2025)