Package: tkWidgets
Version: 1.85.0
Command: /home/rapidbuild/bbs-3.21-bioc-rapid/R/bin/R CMD INSTALL tkWidgets
StartedAt: 2025-02-23 06:08:19 -0500 (Sun, 23 Feb 2025)
EndedAt: 2025-02-23 06:08:25 -0500 (Sun, 23 Feb 2025)
EllapsedTime: 6.6 seconds
RetCode: 0
Status: OK