Package: tkWidgets
Version: 1.85.0
Command: /home/rapidbuild/bbs-3.21-bioc-rapid/R/bin/R CMD check --install=check:tkWidgets.install-out.txt --library=/home/rapidbuild/bbs-3.21-bioc-rapid/R/site-library --timings tkWidgets_1.85.0.tar.gz
StartedAt: 2025-02-23 09:17:17 -0500 (Sun, 23 Feb 2025)
EndedAt: 2025-02-23 09:17:46 -0500 (Sun, 23 Feb 2025)
EllapsedTime: 29.0 seconds
RetCode: 0
Status: OK
CheckDir: tkWidgets.Rcheck
Warnings: 0