Package: tkWidgets
Version: 1.85.0
Command: /home/rapidbuild/bbs-3.21-bioc-rapid/R/bin/R CMD build --keep-empty-dirs --no-resave-data tkWidgets
StartedAt: 2025-02-23 07:32:03 -0500 (Sun, 23 Feb 2025)
EndedAt: 2025-02-23 07:32:13 -0500 (Sun, 23 Feb 2025)
EllapsedTime: 10.0 seconds
RetCode: 0
Status: OK
PackageFile: tkWidgets_1.85.0.tar.gz
PackageFileSize: 477.6 <A href="http://en.wikipedia.org/wiki/KiB" target="_blank">KiB</A>