Package: supraHex Version: 1.45.1 Command: /home/rapidbuild/bbs-3.21-bioc-rapid/R/bin/R CMD build --keep-empty-dirs --no-resave-data supraHex StartedAt: 2025-02-06 07:42:01 -0500 (Thu, 06 Feb 2025) EndedAt: 2025-02-06 07:42:11 -0500 (Thu, 06 Feb 2025) EllapsedTime: 9.6 seconds RetCode: 1 Status: ERROR PackageFile: None PackageFileSize: NA