Package: scuttle Version: 1.17.0 Command: /home/rapidbuild/bbs-3.21-bioc-rapid/R/bin/R CMD INSTALL scuttle StartedAt: 2025-02-05 06:18:41 -0500 (Wed, 05 Feb 2025) EndedAt: 2025-02-05 06:19:42 -0500 (Wed, 05 Feb 2025) EllapsedTime: 61.1 seconds RetCode: 0 Status: OK