Package: scuttle Version: 1.17.0 Command: /home/rapidbuild/bbs-3.21-bioc-rapid/R/bin/R CMD check --install=check:scuttle.install-out.txt --library=/home/rapidbuild/bbs-3.21-bioc-rapid/R/site-library --timings scuttle_1.17.0.tar.gz StartedAt: 2025-02-05 09:26:23 -0500 (Wed, 05 Feb 2025) EndedAt: 2025-02-05 09:32:36 -0500 (Wed, 05 Feb 2025) EllapsedTime: 372.9 seconds RetCode: 0 Status: OK CheckDir: scuttle.Rcheck Warnings: 0