Package: scuttle Version: 1.17.0 Command: /home/rapidbuild/bbs-3.21-bioc-rapid/R/bin/R CMD build --keep-empty-dirs --no-resave-data scuttle StartedAt: 2025-02-05 07:37:56 -0500 (Wed, 05 Feb 2025) EndedAt: 2025-02-05 07:40:17 -0500 (Wed, 05 Feb 2025) EllapsedTime: 140.9 seconds RetCode: 0 Status: OK PackageFile: scuttle_1.17.0.tar.gz PackageFileSize: 1007 KiB