Package: scrapper Version: 1.1.12 Command: /home/rapidbuild/bbs-3.21-bioc-rapid/R/bin/R CMD INSTALL scrapper StartedAt: 2025-02-06 06:21:19 -0500 (Thu, 06 Feb 2025) EndedAt: 2025-02-06 06:26:32 -0500 (Thu, 06 Feb 2025) EllapsedTime: 313.0 seconds RetCode: 0 Status: OK