Package: rtracklayer Version: 1.67.0 Command: /home/rapidbuild/bbs-3.21-bioc-rapid/R/bin/R CMD INSTALL rtracklayer StartedAt: 2025-02-10 06:24:29 -0500 (Mon, 10 Feb 2025) EndedAt: 2025-02-10 06:25:18 -0500 (Mon, 10 Feb 2025) EllapsedTime: 48.5 seconds RetCode: 0 Status: OK