Package: regioneR Version: 1.39.0 Command: /home/rapidbuild/bbs-3.21-bioc-rapid/R/bin/R CMD INSTALL regioneR StartedAt: 2025-02-05 06:25:24 -0500 (Wed, 05 Feb 2025) EndedAt: 2025-02-05 06:25:54 -0500 (Wed, 05 Feb 2025) EllapsedTime: 29.7 seconds RetCode: 0 Status: OK