Package: regioneR Version: 1.39.0 Command: /home/rapidbuild/bbs-3.21-bioc-rapid/R/bin/R CMD build --keep-empty-dirs --no-resave-data regioneR StartedAt: 2025-02-05 07:25:24 -0500 (Wed, 05 Feb 2025) EndedAt: 2025-02-05 07:26:39 -0500 (Wed, 05 Feb 2025) EllapsedTime: 74.3 seconds RetCode: 1 Status: ERROR PackageFile: None PackageFileSize: NA