Package: rBiopaxParser Version: 2.47.0 Command: /home/rapidbuild/bbs-3.21-bioc-rapid/R/bin/R CMD INSTALL rBiopaxParser StartedAt: 2025-02-06 06:12:01 -0500 (Thu, 06 Feb 2025) EndedAt: 2025-02-06 06:12:05 -0500 (Thu, 06 Feb 2025) EllapsedTime: 4.2 seconds RetCode: 0 Status: OK