Package: rBiopaxParser Version: 2.47.0 Command: /home/rapidbuild/bbs-3.21-bioc-rapid/R/bin/R CMD check --install=check:rBiopaxParser.install-out.txt --library=/home/rapidbuild/bbs-3.21-bioc-rapid/R/site-library --timings rBiopaxParser_2.47.0.tar.gz StartedAt: 2025-02-06 09:16:02 -0500 (Thu, 06 Feb 2025) EndedAt: 2025-02-06 09:16:34 -0500 (Thu, 06 Feb 2025) EllapsedTime: 31.3 seconds RetCode: 0 Status: OK CheckDir: rBiopaxParser.Rcheck Warnings: 0