Package: rBiopaxParser Version: 2.47.0 Command: /home/rapidbuild/bbs-3.21-bioc-rapid/R/bin/R CMD build --keep-empty-dirs --no-resave-data rBiopaxParser StartedAt: 2025-02-11 07:26:39 -0500 (Tue, 11 Feb 2025) EndedAt: 2025-02-11 07:27:14 -0500 (Tue, 11 Feb 2025) EllapsedTime: 35.0 seconds RetCode: 0 Status: OK PackageFile: rBiopaxParser_2.47.0.tar.gz PackageFileSize: 897.1 KiB