Package: preprocessCore Version: 1.69.0 Command: /home/rapidbuild/bbs-3.21-bioc-rapid/R/bin/R CMD INSTALL preprocessCore StartedAt: 2025-02-11 06:06:06 -0500 (Tue, 11 Feb 2025) EndedAt: 2025-02-11 06:06:17 -0500 (Tue, 11 Feb 2025) EllapsedTime: 11.0 seconds RetCode: 0 Status: OK