Package: phyloseq Version: 1.51.0 Command: /home/rapidbuild/bbs-3.21-bioc-rapid/R/bin/R CMD check --install=check:phyloseq.install-out.txt --library=/home/rapidbuild/bbs-3.21-bioc-rapid/R/site-library --timings phyloseq_1.51.0.tar.gz StartedAt: 2025-02-06 09:09:19 -0500 (Thu, 06 Feb 2025) EndedAt: 2025-02-06 09:13:34 -0500 (Thu, 06 Feb 2025) EllapsedTime: 254.6 seconds RetCode: 0 Status: WARNINGS CheckDir: phyloseq.Rcheck Warnings: 1