Package: phyloseq Version: 1.51.0 Command: /home/rapidbuild/bbs-3.21-bioc-rapid/R/bin/R CMD build --keep-empty-dirs --no-resave-data phyloseq StartedAt: 2025-02-06 07:19:56 -0500 (Thu, 06 Feb 2025) EndedAt: 2025-02-06 07:21:14 -0500 (Thu, 06 Feb 2025) EllapsedTime: 77.6 seconds RetCode: 0 Status: OK PackageFile: phyloseq_1.51.0.tar.gz PackageFileSize: 6.084 MiB