Package: pRoloc Version: 1.47.1 Command: /home/rapidbuild/bbs-3.21-bioc-rapid/R/bin/R CMD INSTALL pRoloc StartedAt: 2025-02-11 06:23:10 -0500 (Tue, 11 Feb 2025) EndedAt: 2025-02-11 06:24:56 -0500 (Tue, 11 Feb 2025) EllapsedTime: 106.4 seconds RetCode: 0 Status: OK