Package: pRoloc Version: 1.47.1 Command: /home/rapidbuild/bbs-3.21-bioc-rapid/R/bin/R CMD build --keep-empty-dirs --no-resave-data pRoloc StartedAt: 2025-02-11 07:22:53 -0500 (Tue, 11 Feb 2025) EndedAt: 2025-02-11 07:29:18 -0500 (Tue, 11 Feb 2025) EllapsedTime: 384.6 seconds RetCode: 0 Status: OK PackageFile: pRoloc_1.47.1.tar.gz PackageFileSize: 10.31 MiB